BEGIN:VCALENDAR
PRODID:-//AT Content Types//AT Event//EN
VERSION:1.0
BEGIN:VEVENT
DTSTART:20140707T145000Z
DTEND:20140711T145000Z
DCREATED:20131216T154921Z
UID:ATEvent-7da13afc3ab94773a014f849b113ced8
SEQUENCE:0
LAST-MODIFIED:20131216T154925Z
SUMMARY:Nuclei in the Cosmos 13
DESCRIPTION:http://www.nic2014.org/\n\nCosmology and big bang nucleosy
 nthesis\nElement production\, stellar evolution and stellar explosions
 \nEvidences of nucleosynthesis in stars and in presolar grains\nExperi
 ments in nuclear astrophysics\nNuclei far from stability\nNuclear theo
 ry in astrophysics
LOCATION:Debrecen\, Hungary
PRIORITY:3
TRANSP:0
END:VEVENT
END:VCALENDAR
