BEGIN:VCALENDAR
PRODID:-//AT Content Types//AT Event//EN
VERSION:1.0
BEGIN:VEVENT
DTSTART:20140623T143500Z
DTEND:20140627T143500Z
DCREATED:20131216T153557Z
UID:ATEvent-4e91a934c9c74d3eadac6291551213c7
SEQUENCE:0
LAST-MODIFIED:20131216T154614Z
SUMMARY:New Windows on Massive Stars\, Asteroseismology\, Interferometry and Spectropolarimetry
DESCRIPTION:http://www.iau.org/science/meetings/future/symposia/1091/\
 n\nMassive stars\nAsteroseismology\nInterferometry\nSpectropolarimetry
 \nRotation\nMagnetic fields\nStellar winds\nCircumstellar environments
 \nSurface abundances\nBe stars\, supergiants\, luminous blue variables
 \, Wolf-Rayet stars
LOCATION:Geneva\, Switzerland
PRIORITY:3
TRANSP:0
END:VEVENT
END:VCALENDAR
