BEGIN:VCALENDAR
PRODID:-//AT Content Types//AT Event//EN
VERSION:2.0
METHOD:PUBLISH
BEGIN:VEVENT
DTSTAMP:20260421T130807Z
CREATED:20131216T154557Z
UID:ATEvent-bd003b619dc340a8a442c6fd6abc7241
LAST-MODIFIED:20131216T154618Z
SUMMARY:21th Open Young Scientists' Conference on Astronomy and Space Physics
DTSTART:20140428T144500Z
DTEND:20140503T144500Z
DESCRIPTION:http://ysc.kiev.ua/index.php?text=announcement\n\natmosphe
 ric studies and space geophysics\nSolar physics and heliosphere\nSolar
  System & extrasolar planets\nstellar astrophysics\ninterstellar and i
 ntergalactic medium\nextragalactic astrophysics and cosmology\nhigh-en
 ergy astrophysics and astroparticle physics\npositional astronomy and 
 astronomical equipment\ncomputers in astronomy
LOCATION:Faculty of Physics of the Taras Shevchenko National University of Kyiv
CLASS:PUBLIC
END:VEVENT
END:VCALENDAR
