BEGIN:VCALENDAR
PRODID:-//AT Content Types//AT Event//EN
VERSION:1.0
BEGIN:VEVENT
DTSTART:20140407T144000Z
DTEND:20140412T144000Z
DCREATED:20131216T154110Z
UID:ATEvent-851efeaef2494e10ae2a0dac3b02ef4a
SEQUENCE:0
LAST-MODIFIED:20131216T154622Z
SUMMARY:17th Workshop on Nuclear Astrophysics
DESCRIPTION:http://www.mpa-garching.mpg.de/hydro/NucAstro/\n\nHydrosta
 tic and explosive nucleosynthesis\nChemical evolution of the Galaxy\nN
 uclear physics input for astrophysics\nAstro-particle experiments
LOCATION:Ringberg Castle\, near Bad Wiessee\, Tegernsee\, Germany
PRIORITY:3
TRANSP:0
END:VEVENT
END:VCALENDAR
