BEGIN:VCALENDAR
PRODID:-//AT Content Types//AT Event//EN
VERSION:1.0
BEGIN:VEVENT
DTSTART:20241016T154500Z
DTEND:20241018T154500Z
DCREATED:20240715T154418Z
UID:ATEvent-0cf28d4fac7e4d7aa4a54379aeb470a0
SEQUENCE:0
LAST-MODIFIED:20240715T154825Z
SUMMARY:8th p-process workshop
LOCATION:Budapest\, Hungary
PRIORITY:3
TRANSP:0
END:VEVENT
END:VCALENDAR
