BEGIN:VCALENDAR
PRODID:-//AT Content Types//AT Event//EN
VERSION:1.0
BEGIN:VEVENT
DTSTART:20210723T220000Z
DTEND:20210723T220000Z
DCREATED:20210704T183110Z
UID:ATEvent-4668e980264046099f1010866e6f4f2a
SEQUENCE:0
LAST-MODIFIED:20210704T184118Z
SUMMARY:NAM session 2021: Unveiling cosmic chemical evolution: the role of transients\, the origin of elements\, and galaxy evolution
PRIORITY:3
TRANSP:0
END:VEVENT
END:VCALENDAR
