BEGIN:VCALENDAR
PRODID:-//AT Content Types//AT Event//EN
VERSION:1.0
BEGIN:VEVENT
DTSTART:20250519T122000Z
DTEND:20250523T122000Z
DCREATED:20250414T132043Z
UID:ATEvent-44bd68fe838145bfa1c696a53f37eadf
SEQUENCE:0
LAST-MODIFIED:20250414T132102Z
SUMMARY:IReNA-CeNAM 2025: Frontiers in Nuclear Astrophysics Meeting
PRIORITY:3
TRANSP:0
END:VEVENT
END:VCALENDAR
